View In:
ArcGIS JavaScript
ArcGIS Online Map Viewer
ArcGIS Earth
Service Description: NGS/LandSurface_Raster
Name: NGS/LandSurface_Raster
Description:
Single Fused Map Cache: false
Extent:
XMin: -2402594.2939999998
YMin: 222124.30480000004
XMax: 2267405.7060000002
YMax: 3179624.3048
Spatial Reference: 5070
(5070)
LatestVCSWkid(0)
Initial Extent:
XMin: -2402594.2939999998
YMin: 222124.30480000004
XMax: 2267405.7060000002
YMax: 3179624.3048
Spatial Reference: 5070
(5070)
LatestVCSWkid(0)
Full Extent:
XMin: -2402594.2939999998
YMin: 222124.30480000004
XMax: 2267405.7060000002
YMax: 3179624.3048
Spatial Reference: 5070
(5070)
LatestVCSWkid(0)
Pixel Size X: 2500.0
Pixel Size Y: 2500.0
Band Count: 1
Pixel Type: S16
RasterFunction Infos: {"rasterFunctionInfos": [
{
"name": "LandSurfaceElevationTemplate",
"description": "LS",
"help": ""
},
{
"name": "None",
"description": "",
"help": ""
}
]}
Mensuration Capabilities: Basic
Inspection Capabilities:
Has Histograms: true
Has Colormap: false
Has Multi Dimensions : false
Rendering Rule:
Min Scale: 0
Max Scale: 0
Resampling: false
Copyright Text:
Service Data Type: esriImageServiceDataTypeGeneric
Min Values: -83
Max Values: 4012
Mean Values: 786.06989520781
Standard Deviation Values: 729.59520073833
Object ID Field:
Fields:
None
Default Mosaic Method: Center
Allowed Mosaic Methods:
SortField:
SortValue: null
Mosaic Operator: First
Default Compression Quality: 75
Default Resampling Method: Bilinear
Max Record Count: null
Max Image Height: 4100
Max Image Width: 15000
Max Download Image Count: null
Max Mosaic Image Count: null
Allow Raster Function: true
Allow Copy: true
Allow Analysis: true
Allow Compute TiePoints: false
Supports Statistics: false
Supports Advanced Queries: false
Use StandardizedQueries: true
Raster Type Infos:
Name: Raster Dataset
Description: Supports all ArcGIS Raster Datasets
Help:
Has Raster Attribute Table: false
Edit Fields Info: null
Ownership Based AccessControl For Rasters: null
Child Resources:
Info
Histograms
Statistics
Key Properties
Legend
Raster Function Infos
Supported Operations:
Export Image
Identify
Measure
Compute Histograms
Compute Statistics Histograms
Get Samples
Compute Class Statistics
Query Boundary
Compute Pixel Location
Compute Angles
Validate
Project